BEGIN:VCALENDAR
VERSION:2.0
PRODID:-// - ECPv6.15.20//NONSGML v1.0//EN
CALSCALE:GREGORIAN
METHOD:PUBLISH
X-ORIGINAL-URL:https://steinchenklemmer.de
X-WR-CALDESC:Veranstaltungen für 
REFRESH-INTERVAL;VALUE=DURATION:PT1H
X-Robots-Tag:noindex
X-PUBLISHED-TTL:PT1H
BEGIN:VTIMEZONE
TZID:Europe/Berlin
BEGIN:DAYLIGHT
TZOFFSETFROM:+0100
TZOFFSETTO:+0200
TZNAME:CEST
DTSTART:20250330T010000
END:DAYLIGHT
BEGIN:STANDARD
TZOFFSETFROM:+0200
TZOFFSETTO:+0100
TZNAME:CET
DTSTART:20251026T010000
END:STANDARD
BEGIN:DAYLIGHT
TZOFFSETFROM:+0100
TZOFFSETTO:+0200
TZNAME:CEST
DTSTART:20260329T010000
END:DAYLIGHT
BEGIN:STANDARD
TZOFFSETFROM:+0200
TZOFFSETTO:+0100
TZNAME:CET
DTSTART:20261025T010000
END:STANDARD
BEGIN:DAYLIGHT
TZOFFSETFROM:+0100
TZOFFSETTO:+0200
TZNAME:CEST
DTSTART:20270328T010000
END:DAYLIGHT
BEGIN:STANDARD
TZOFFSETFROM:+0200
TZOFFSETTO:+0100
TZNAME:CET
DTSTART:20271031T010000
END:STANDARD
END:VTIMEZONE
BEGIN:VEVENT
DTSTART;TZID=Europe/Berlin:20260425T100000
DTEND;TZID=Europe/Berlin:20260425T180000
DTSTAMP:20260420T084624
CREATED:20260406T091654Z
LAST-MODIFIED:20260406T103319Z
UID:2731-1777111200-1777140000@steinchenklemmer.de
SUMMARY:1. LEGO® und Klemmbaustein Ausstellung
DESCRIPTION:
URL:https://steinchenklemmer.de/event/1-lego-und-klemmbaustein-ausstellung/
LOCATION:Druckwerk Trier-Euren\, Ottostraße 29\, Trier\, Rheinland-Pfalz\, 54294\, Germany
CATEGORIES:Ausstellung
ATTACH;FMTTYPE=image/jpeg:https://steinchenklemmer.de/wp-content/uploads/Wir-sind-dabeiDie-erste-Lego-und-KlemmbausteinAusstellung-in-Trier.-😀Were-part-of-it-—-the-v.jpg
END:VEVENT
BEGIN:VEVENT
DTSTART;TZID=Europe/Berlin:20260426T100000
DTEND;TZID=Europe/Berlin:20260426T170000
DTSTAMP:20260420T084624
CREATED:20260406T103511Z
LAST-MODIFIED:20260406T103511Z
UID:2756-1777197600-1777222800@steinchenklemmer.de
SUMMARY:1. LEGO® und Klemmbaustein Ausstellung
DESCRIPTION:
URL:https://steinchenklemmer.de/event/1-lego-und-klemmbaustein-ausstellung-2/
LOCATION:Druckwerk Trier-Euren\, Ottostraße 29\, Trier\, Rheinland-Pfalz\, 54294\, Germany
CATEGORIES:Ausstellung
ATTACH;FMTTYPE=image/jpeg:https://steinchenklemmer.de/wp-content/uploads/Wir-sind-dabeiDie-erste-Lego-und-KlemmbausteinAusstellung-in-Trier.-😀Were-part-of-it-—-the-v.jpg
END:VEVENT
END:VCALENDAR