BEGIN:VCALENDAR
VERSION:2.0
PRODID:-// - ECPv6.15.20//NONSGML v1.0//EN
CALSCALE:GREGORIAN
METHOD:PUBLISH
X-ORIGINAL-URL:https://steinchenklemmer.de
X-WR-CALDESC:Veranstaltungen für 
REFRESH-INTERVAL;VALUE=DURATION:PT1H
X-Robots-Tag:noindex
X-PUBLISHED-TTL:PT1H
BEGIN:VTIMEZONE
TZID:Europe/Berlin
BEGIN:DAYLIGHT
TZOFFSETFROM:+0100
TZOFFSETTO:+0200
TZNAME:CEST
DTSTART:20250330T010000
END:DAYLIGHT
BEGIN:STANDARD
TZOFFSETFROM:+0200
TZOFFSETTO:+0100
TZNAME:CET
DTSTART:20251026T010000
END:STANDARD
BEGIN:DAYLIGHT
TZOFFSETFROM:+0100
TZOFFSETTO:+0200
TZNAME:CEST
DTSTART:20260329T010000
END:DAYLIGHT
BEGIN:STANDARD
TZOFFSETFROM:+0200
TZOFFSETTO:+0100
TZNAME:CET
DTSTART:20261025T010000
END:STANDARD
BEGIN:DAYLIGHT
TZOFFSETFROM:+0100
TZOFFSETTO:+0200
TZNAME:CEST
DTSTART:20270328T010000
END:DAYLIGHT
BEGIN:STANDARD
TZOFFSETFROM:+0200
TZOFFSETTO:+0100
TZNAME:CET
DTSTART:20271031T010000
END:STANDARD
END:VTIMEZONE
BEGIN:VEVENT
DTSTART;TZID=Europe/Berlin:20260418T100000
DTEND;TZID=Europe/Berlin:20260418T180000
DTSTAMP:20260420T070729
CREATED:20260406T090617Z
LAST-MODIFIED:20260406T095653Z
UID:2699-1776506400-1776535200@steinchenklemmer.de
SUMMARY:LA Play!
DESCRIPTION:
URL:https://steinchenklemmer.de/event/la-play/
LOCATION:Bürgersaal Ergolding\, Lindenstraße 40\, 84030 Ergolding\, Bayern\, 84030\, Germany
CATEGORIES:Ausstellung
ATTACH;FMTTYPE=image/webp:https://steinchenklemmer.de/wp-content/uploads/Wir-freuen-uns-riesig-die-neue-Location-der-LA-Play-zu-praesentieren-den-Buergersaal-Ergolding.webp
END:VEVENT
BEGIN:VEVENT
DTSTART;TZID=Europe/Berlin:20260412T110000
DTEND;TZID=Europe/Berlin:20260412T160000
DTSTAMP:20260420T070729
CREATED:20260406T091459Z
LAST-MODIFIED:20260406T094556Z
UID:2729-1775991600-1776009600@steinchenklemmer.de
SUMMARY:Alles LEGO®! Börse
DESCRIPTION:
URL:https://steinchenklemmer.de/event/alles-lego-2/
LOCATION:Altes Straßenbahndepot Schkeuditz bei Leipzig\, Rathausplatz 9\, Schkeuditz\, Sachsen\, 04435\, Deutschland
CATEGORIES:Börse
ATTACH;FMTTYPE=image/png:https://steinchenklemmer.de/wp-content/uploads/900002150_27780_flyer_lbrick_boersen_2026.png
END:VEVENT
BEGIN:VEVENT
DTSTART;TZID=Europe/Berlin:20260412T100000
DTEND;TZID=Europe/Berlin:20260412T170000
DTSTAMP:20260420T070729
CREATED:20260210T050612Z
LAST-MODIFIED:20260406T092925Z
UID:2556-1775988000-1776013200@steinchenklemmer.de
SUMMARY:Bricks am Meer
DESCRIPTION:
URL:https://steinchenklemmer.de/event/bricks-am-meer-2/
LOCATION:Wandelhalle Bad Zwischenahn\, Auf dem Hohen Ufer 24\, Bad Zwischenahn\, Niedersachsen\, 26160\, Deutschland
CATEGORIES:Ausstellung
ATTACH;FMTTYPE=image/jpeg:https://steinchenklemmer.de/wp-content/uploads/2026_bricks_am_meer_insta-scaled-1.jpg
END:VEVENT
BEGIN:VEVENT
DTSTART;TZID=Europe/Berlin:20260412T093000
DTEND;TZID=Europe/Berlin:20260412T170000
DTSTAMP:20260420T070729
CREATED:20260406T090346Z
LAST-MODIFIED:20260406T093745Z
UID:2693-1775986200-1776013200@steinchenklemmer.de
SUMMARY:Stein Hanse 2026
DESCRIPTION:
URL:https://steinchenklemmer.de/event/stein-hanse-2026-2/
LOCATION:Marschweghalle\, Marschweg 18\, Kaltenkirchen\, Schleswig-Holstein\, 24568\, Germany
CATEGORIES:Ausstellung
ATTACH;FMTTYPE=image/jpeg:https://steinchenklemmer.de/wp-content/uploads/Flyer2026-draft_1.4_front-1-483x1024-1.jpg
END:VEVENT
BEGIN:VEVENT
DTSTART;TZID=Europe/Berlin:20260411T110000
DTEND;TZID=Europe/Berlin:20260411T160000
DTSTAMP:20260420T070729
CREATED:20260406T091425Z
LAST-MODIFIED:20260406T094350Z
UID:2727-1775905200-1775923200@steinchenklemmer.de
SUMMARY:Alles LEGO®! Börse
DESCRIPTION:
URL:https://steinchenklemmer.de/event/alles-lego/
LOCATION:Altes Straßenbahndepot Schkeuditz bei Leipzig\, Rathausplatz 9\, Schkeuditz\, Sachsen\, 04435\, Deutschland
CATEGORIES:Börse
ATTACH;FMTTYPE=image/png:https://steinchenklemmer.de/wp-content/uploads/900002150_27780_flyer_lbrick_boersen_2026.png
END:VEVENT
BEGIN:VEVENT
DTSTART;TZID=Europe/Berlin:20260411T100000
DTEND;TZID=Europe/Berlin:20260411T180000
DTSTAMP:20260420T070729
CREATED:20260210T050440Z
LAST-MODIFIED:20260406T092751Z
UID:2555-1775901600-1775930400@steinchenklemmer.de
SUMMARY:Bricks am Meer
DESCRIPTION:
URL:https://steinchenklemmer.de/event/bricks-am-meer/
LOCATION:Wandelhalle Bad Zwischenahn\, Auf dem Hohen Ufer 24\, Bad Zwischenahn\, Niedersachsen\, 26160\, Deutschland
CATEGORIES:Ausstellung
ATTACH;FMTTYPE=image/jpeg:https://steinchenklemmer.de/wp-content/uploads/2026_bricks_am_meer_insta-scaled-1.jpg
END:VEVENT
BEGIN:VEVENT
DTSTART;TZID=Europe/Berlin:20260411T093000
DTEND;TZID=Europe/Berlin:20260411T180000
DTSTAMP:20260420T070729
CREATED:20260406T090306Z
LAST-MODIFIED:20260406T093605Z
UID:2691-1775899800-1775930400@steinchenklemmer.de
SUMMARY:Stein Hanse 2026
DESCRIPTION:
URL:https://steinchenklemmer.de/event/stein-hanse-2026/
LOCATION:Marschweghalle\, Marschweg 18\, Kaltenkirchen\, Schleswig-Holstein\, 24568\, Germany
CATEGORIES:Ausstellung
ATTACH;FMTTYPE=image/jpeg:https://steinchenklemmer.de/wp-content/uploads/Flyer2026-draft_1.4_front-1-483x1024-1.jpg
END:VEVENT
BEGIN:VEVENT
DTSTART;TZID=Europe/Berlin:20260406T110000
DTEND;TZID=Europe/Berlin:20260406T170000
DTSTAMP:20260420T070729
CREATED:20260406T091304Z
LAST-MODIFIED:20260406T092233Z
UID:2725-1775473200-1775494800@steinchenklemmer.de
SUMMARY:LEGO® Börse Hamm
DESCRIPTION:
URL:https://steinchenklemmer.de/event/lego-boerse-hamm/
LOCATION:Zentralhallen Hamm\, Ökonomierat-Peitzmeier-Platz 2 - 4\, Hamm\, Nordrhein-Westfalen\, 59063\, Germany
CATEGORIES:Börse
ATTACH;FMTTYPE=image/jpeg:https://steinchenklemmer.de/wp-content/uploads/🧱✨-LEGO-Boerse-2026-Nach-zwei-erfolgreichen-Veranstaltungen-in-den-vergangenen-Jahren-ueberrasch.jpg
ORGANIZER;CN="Steineflut - Nadine & Thomas Ruchbach GbR":MAILTO:info@steineflut.de
END:VEVENT
BEGIN:VEVENT
DTSTART;TZID=Europe/Berlin:20260330T150000
DTEND;TZID=Europe/Berlin:20260330T170000
DTSTAMP:20260420T070729
CREATED:20260328T181423Z
LAST-MODIFIED:20260328T181435Z
UID:2624-1774882800-1774890000@steinchenklemmer.de
SUMMARY:LEGO® & Duplo® in der Stadtbücherei Rüsselsheim
DESCRIPTION:
URL:https://steinchenklemmer.de/event/lego-duplo-in-der-stadtbuecherei-ruesselsheim/
LOCATION:Stadtbücherei Rüsselsheim\, Am Treff 5\, Rüsselsheim am Main\, Hessen\, 65428\, Germany
CATEGORIES:Bautisch
ATTACH;FMTTYPE=image/jpeg:https://steinchenklemmer.de/wp-content/uploads/2026-03-30-LEGO®-Duplo®-in-der-Stadtbuecherei-Ruesselsheim.jpeg
ORGANIZER;CN="Born2Brick e.V.":MAILTO:vorstand@born2brick.de
END:VEVENT
BEGIN:VEVENT
DTSTART;TZID=Europe/Berlin:20260329T113000
DTEND;TZID=Europe/Berlin:20260329T170000
DTSTAMP:20260420T070729
CREATED:20260313T050353Z
LAST-MODIFIED:20260313T050353Z
UID:2571-1774783800-1774803600@steinchenklemmer.de
SUMMARY:Martins Steine Welt
DESCRIPTION:
URL:https://steinchenklemmer.de/event/martins-steine-welt/
LOCATION:Gemeindehaus Buoch\, Stuifenstraße 12\, Remshalden\, Baden-Württemberg\, 73630\, Germany
CATEGORIES:Ausstellung
ATTACH;FMTTYPE=image/jpeg:https://steinchenklemmer.de/wp-content/uploads/1000027098.jpg
END:VEVENT
BEGIN:VEVENT
DTSTART;TZID=Europe/Berlin:20260329T100000
DTEND;TZID=Europe/Berlin:20260329T170000
DTSTAMP:20260420T070729
CREATED:20260101T214353Z
LAST-MODIFIED:20260131T171237Z
UID:2525-1774778400-1774803600@steinchenklemmer.de
SUMMARY:Hilldesheimer Steinwelten
DESCRIPTION:
URL:https://steinchenklemmer.de/event/steinewelten-2/
LOCATION:Römer- und Plizaeus-Museum\, Am Steine 1\, Hildesheim\, Niedersachsen\, 31134\, Germany
CATEGORIES:Ausstellung
ATTACH;FMTTYPE=image/jpeg:https://steinchenklemmer.de/wp-content/uploads/2026-03-28-29-Hildesheimer-Steinwelten-Flyer.jpg
END:VEVENT
BEGIN:VEVENT
DTSTART;TZID=Europe/Berlin:20260329T100000
DTEND;TZID=Europe/Berlin:20260329T160000
DTSTAMP:20260420T070729
CREATED:20260313T045644Z
LAST-MODIFIED:20260313T045813Z
UID:2568-1774778400-1774800000@steinchenklemmer.de
SUMMARY:LEGO® BÖRSE PUDERBACH
DESCRIPTION:
URL:https://steinchenklemmer.de/event/lego-boerse-puderbach/
LOCATION:Gemeinschaftshaus Puderbach\, Zum Sportplatz 1\, Puderbach\, Rheinland-Pfalz\, 56305\, Deutschland
CATEGORIES:Börse
ATTACH;FMTTYPE=image/jpeg:https://steinchenklemmer.de/wp-content/uploads/643884033_1450124716899841_1512648323309889978_n.jpg
END:VEVENT
BEGIN:VEVENT
DTSTART;TZID=Europe/Berlin:20260328T100000
DTEND;TZID=Europe/Berlin:20260328T170000
DTSTAMP:20260420T070729
CREATED:20260101T214304Z
LAST-MODIFIED:20260131T171019Z
UID:2522-1774692000-1774717200@steinchenklemmer.de
SUMMARY:Hildesheimer Steinwelten
DESCRIPTION:
URL:https://steinchenklemmer.de/event/steinewelten/
LOCATION:Römer- und Plizaeus-Museum\, Am Steine 1\, Hildesheim\, Niedersachsen\, 31134\, Germany
CATEGORIES:Ausstellung
ATTACH;FMTTYPE=image/jpeg:https://steinchenklemmer.de/wp-content/uploads/2026-03-28-29-Hildesheimer-Steinwelten-Flyer.jpg
END:VEVENT
BEGIN:VEVENT
DTSTART;VALUE=DATE:20260328
DTEND;VALUE=DATE:20260329
DTSTAMP:20260420T070729
CREATED:20260313T045356Z
LAST-MODIFIED:20260313T045736Z
UID:2564-1774656000-1774742399@steinchenklemmer.de
SUMMARY:LEGO® & PLAYMOBIL Börse
DESCRIPTION:
URL:https://steinchenklemmer.de/event/lego-playmobil-boerse/
LOCATION:Markthalle Delmenhorst\, Rathausplatz 2\, Delmenhorst\, Niedersachsen\, 27749\, Deutschland
CATEGORIES:Börse
END:VEVENT
BEGIN:VEVENT
DTSTART;TZID=Europe/Berlin:20260322T110000
DTEND;TZID=Europe/Berlin:20260322T170000
DTSTAMP:20260420T070729
CREATED:20260101T203301Z
LAST-MODIFIED:20260124T172911Z
UID:2517-1774177200-1774198800@steinchenklemmer.de
SUMMARY:3. Hunsrücker Steinewelt
DESCRIPTION:
URL:https://steinchenklemmer.de/event/2-hunsruecker-steinewelt-2/
LOCATION:Stadthalle Kirchberg (Hunsrück)\, Gartenstraße 1\, Kirchberg (Hunsrück)\, Rheinland-Pfalz\, 55481\, Germany
CATEGORIES:Ausstellung
ATTACH;FMTTYPE=image/jpeg:https://steinchenklemmer.de/wp-content/uploads/WhatsApp-Image-2026-01-18-at-13.00.21.jpeg
END:VEVENT
BEGIN:VEVENT
DTSTART;TZID=Europe/Berlin:20260321T100000
DTEND;TZID=Europe/Berlin:20260321T180000
DTSTAMP:20260420T070729
CREATED:20260101T203152Z
LAST-MODIFIED:20260124T172758Z
UID:2514-1774087200-1774116000@steinchenklemmer.de
SUMMARY:3. Hunsrücker Steinewelt
DESCRIPTION:
URL:https://steinchenklemmer.de/event/2-hunsruecker-steinewelt/
LOCATION:Stadthalle Kirchberg (Hunsrück)\, Gartenstraße 1\, Kirchberg (Hunsrück)\, Rheinland-Pfalz\, 55481\, Germany
CATEGORIES:Ausstellung
ATTACH;FMTTYPE=image/jpeg:https://steinchenklemmer.de/wp-content/uploads/WhatsApp-Image-2026-01-18-at-13.00.21.jpeg
END:VEVENT
END:VCALENDAR