BEGIN:VCALENDAR
VERSION:2.0
PRODID:-// - ECPv6.15.20//NONSGML v1.0//EN
CALSCALE:GREGORIAN
METHOD:PUBLISH
X-ORIGINAL-URL:https://steinchenklemmer.de
X-WR-CALDESC:Veranstaltungen für 
REFRESH-INTERVAL;VALUE=DURATION:PT1H
X-Robots-Tag:noindex
X-PUBLISHED-TTL:PT1H
BEGIN:VTIMEZONE
TZID:Europe/Berlin
BEGIN:DAYLIGHT
TZOFFSETFROM:+0100
TZOFFSETTO:+0200
TZNAME:CEST
DTSTART:20250330T010000
END:DAYLIGHT
BEGIN:STANDARD
TZOFFSETFROM:+0200
TZOFFSETTO:+0100
TZNAME:CET
DTSTART:20251026T010000
END:STANDARD
BEGIN:DAYLIGHT
TZOFFSETFROM:+0100
TZOFFSETTO:+0200
TZNAME:CEST
DTSTART:20260329T010000
END:DAYLIGHT
BEGIN:STANDARD
TZOFFSETFROM:+0200
TZOFFSETTO:+0100
TZNAME:CET
DTSTART:20261025T010000
END:STANDARD
BEGIN:DAYLIGHT
TZOFFSETFROM:+0100
TZOFFSETTO:+0200
TZNAME:CEST
DTSTART:20270328T010000
END:DAYLIGHT
BEGIN:STANDARD
TZOFFSETFROM:+0200
TZOFFSETTO:+0100
TZNAME:CET
DTSTART:20271031T010000
END:STANDARD
END:VTIMEZONE
BEGIN:VEVENT
DTSTART;TZID=Europe/Berlin:20260329T100000
DTEND;TZID=Europe/Berlin:20260329T160000
DTSTAMP:20260420T054421
CREATED:20260313T045644Z
LAST-MODIFIED:20260313T045813Z
UID:2568-1774778400-1774800000@steinchenklemmer.de
SUMMARY:LEGO® BÖRSE PUDERBACH
DESCRIPTION:
URL:https://steinchenklemmer.de/event/lego-boerse-puderbach/
LOCATION:Gemeinschaftshaus Puderbach\, Zum Sportplatz 1\, Puderbach\, Rheinland-Pfalz\, 56305\, Deutschland
CATEGORIES:Börse
ATTACH;FMTTYPE=image/jpeg:https://steinchenklemmer.de/wp-content/uploads/643884033_1450124716899841_1512648323309889978_n.jpg
END:VEVENT
BEGIN:VEVENT
DTSTART;TZID=Europe/Berlin:20260329T100000
DTEND;TZID=Europe/Berlin:20260329T170000
DTSTAMP:20260420T054421
CREATED:20260101T214353Z
LAST-MODIFIED:20260131T171237Z
UID:2525-1774778400-1774803600@steinchenklemmer.de
SUMMARY:Hilldesheimer Steinwelten
DESCRIPTION:
URL:https://steinchenklemmer.de/event/steinewelten-2/
LOCATION:Römer- und Plizaeus-Museum\, Am Steine 1\, Hildesheim\, Niedersachsen\, 31134\, Germany
CATEGORIES:Ausstellung
ATTACH;FMTTYPE=image/jpeg:https://steinchenklemmer.de/wp-content/uploads/2026-03-28-29-Hildesheimer-Steinwelten-Flyer.jpg
END:VEVENT
BEGIN:VEVENT
DTSTART;TZID=Europe/Berlin:20260329T113000
DTEND;TZID=Europe/Berlin:20260329T170000
DTSTAMP:20260420T054421
CREATED:20260313T050353Z
LAST-MODIFIED:20260313T050353Z
UID:2571-1774783800-1774803600@steinchenklemmer.de
SUMMARY:Martins Steine Welt
DESCRIPTION:
URL:https://steinchenklemmer.de/event/martins-steine-welt/
LOCATION:Gemeindehaus Buoch\, Stuifenstraße 12\, Remshalden\, Baden-Württemberg\, 73630\, Germany
CATEGORIES:Ausstellung
ATTACH;FMTTYPE=image/jpeg:https://steinchenklemmer.de/wp-content/uploads/1000027098.jpg
END:VEVENT
END:VCALENDAR